BEGIN:VCALENDAR
VERSION:2.0
PRODID:-//Splashway Waterpark - ECPv6.15.15//NONSGML v1.0//EN
CALSCALE:GREGORIAN
METHOD:PUBLISH
X-ORIGINAL-URL:https://splashway.com
X-WR-CALDESC:Events for Splashway Waterpark
REFRESH-INTERVAL;VALUE=DURATION:PT1H
X-Robots-Tag:noindex
X-PUBLISHED-TTL:PT1H
BEGIN:VTIMEZONE
TZID:America/New_York
BEGIN:DAYLIGHT
TZOFFSETFROM:-0500
TZOFFSETTO:-0400
TZNAME:EDT
DTSTART:20250309T070000
END:DAYLIGHT
BEGIN:STANDARD
TZOFFSETFROM:-0400
TZOFFSETTO:-0500
TZNAME:EST
DTSTART:20251102T060000
END:STANDARD
BEGIN:DAYLIGHT
TZOFFSETFROM:-0500
TZOFFSETTO:-0400
TZNAME:EDT
DTSTART:20260308T070000
END:DAYLIGHT
BEGIN:STANDARD
TZOFFSETFROM:-0400
TZOFFSETTO:-0500
TZNAME:EST
DTSTART:20261101T060000
END:STANDARD
BEGIN:DAYLIGHT
TZOFFSETFROM:-0500
TZOFFSETTO:-0400
TZNAME:EDT
DTSTART:20270314T070000
END:DAYLIGHT
BEGIN:STANDARD
TZOFFSETFROM:-0400
TZOFFSETTO:-0500
TZNAME:EST
DTSTART:20271107T060000
END:STANDARD
END:VTIMEZONE
BEGIN:VEVENT
DTSTART;TZID=America/New_York:20260807T190000
DTEND;TZID=America/New_York:20260807T220000
DTSTAMP:20260420T020231
CREATED:20260319T201601Z
LAST-MODIFIED:20260319T201601Z
UID:46503-1786129200-1786140000@splashway.com
SUMMARY:Ryan Thompson
DESCRIPTION:🌊🎶 Splash All Day. Jam All Night. 🎶🌊 \nWhen the waterpark closes\, the fun keeps going at The Hideaway! Join us for a summer night of musical vibes on Friday\, August 7th with Ryan Thompson playing from 7:00 – 10:00 PM 🎸☀️ \n💦 After a full day of splashing and sunshine\, cool down with a refreshing drink\, grab dinner\, and enjoy great live music in a relaxed outdoor setting. Whether you’re winding down or dancing along\, it’s the perfect way to end a Splashway day. 😎✨ \n🍔🍹 The Hideaway will be serving up delicious\, home-cooked meals from 5:00 – 9:00 PM—because summer nights deserve great food and great music!
URL:https://splashway.com/event/ryan-thompson-27/
LOCATION:The Hideaway at Splashway\, 5235 East 2nd Street\, Sheridan\, Texas\, 77475
CATEGORIES:Campground Activities,Live Music
ATTACH;FMTTYPE=image/png:https://splashway.com/wp-content/uploads/2026/03/Ryan-Thompson.png
END:VEVENT
BEGIN:VEVENT
DTSTART;TZID=America/New_York:20260807T194500
DTEND;TZID=America/New_York:20260807T194500
DTSTAMP:20260420T020231
CREATED:20260419T155245Z
LAST-MODIFIED:20260419T155245Z
UID:47500-1786131900-1786131900@splashway.com
SUMMARY:S’more Night🍫
DESCRIPTION:Bring the entire family to the pond for some ooey gooey s’mores! Tonight we are having s’mores with an island twist! We’ll have vanilla wafers to spicy up your s’mores night fun. We will provide all the necessary ingredients!
URL:https://splashway.com/event/smore-night%f0%9f%8d%ab-36/
LOCATION:Pond\, 5235 East 2nd Street\, Sheridan\, TX\, 77475\, United States
CATEGORIES:Campground Activities
END:VEVENT
BEGIN:VEVENT
DTSTART;TZID=America/New_York:20260807T203000
DTEND;TZID=America/New_York:20260807T213000
DTSTAMP:20260420T020231
CREATED:20260419T155419Z
LAST-MODIFIED:20260419T155419Z
UID:47501-1786134600-1786138200@splashway.com
SUMMARY:Movie Night🎬
DESCRIPTION:Grab a bag of popcorn and meet us at the movie screen! The movie is\, Surf’s Up! Don’t forget to stop by the Camp Store for snacks and drinks!
URL:https://splashway.com/event/movie-night%f0%9f%8e%ac-203/
LOCATION:Movie Screen\, 5235 East 2nd Street\, Sheridan\, Texas\, 77475
CATEGORIES:Campground Activities,Campground Events
END:VEVENT
BEGIN:VEVENT
DTSTART;TZID=America/New_York:20260808T083000
DTEND;TZID=America/New_York:20260808T090000
DTSTAMP:20260420T020231
CREATED:20260419T155552Z
LAST-MODIFIED:20260419T155552Z
UID:47504-1786177800-1786179600@splashway.com
SUMMARY:Rise & Stretch🌞🧘‍♀️
DESCRIPTION:Start your day the relaxing way light movement\, deep breaths\, and good vibes to set the tone for your morning. Join us near the prayer garden all ages welcome!
URL:https://splashway.com/event/rise-stretch%f0%9f%8c%9e%f0%9f%a7%98%e2%99%80%ef%b8%8f-26/
LOCATION:Splashway Campground\, 5235 East 2nd Street\, Sheridan\, Texas\, 77475
CATEGORIES:Campground Activities
END:VEVENT
BEGIN:VEVENT
DTSTART;TZID=America/New_York:20260808T093000
DTEND;TZID=America/New_York:20260808T093000
DTSTAMP:20260420T020231
CREATED:20260419T155750Z
LAST-MODIFIED:20260419T155750Z
UID:47505-1786181400-1786181400@splashway.com
SUMMARY:Ray's & Praise🌞
DESCRIPTION:Join Ray at the flagpole! We will say a prayer\, the Pledge of Allegiance\, and the Texas Pledge. See you at the pole!
URL:https://splashway.com/event/rays-praise%f0%9f%8c%9e-12/
LOCATION:Ray’s Playground\, 5235 East 2nd Street\, Sheridan\, Texas\, 77475
CATEGORIES:Campground Activities|Campground Events
END:VEVENT
BEGIN:VEVENT
DTSTART;TZID=America/New_York:20260808T184500
DTEND;TZID=America/New_York:20260808T220000
DTSTAMP:20260420T020231
CREATED:20260419T160224Z
LAST-MODIFIED:20260419T160224Z
UID:47512-1786214700-1786226400@splashway.com
SUMMARY:Laser Tag🔫💥🎯
DESCRIPTION:Book a thrilling game of Laser Tag in the Camp Store today!
URL:https://splashway.com/event/laser-tag%f0%9f%94%ab%f0%9f%92%a5%f0%9f%8e%af-114/
LOCATION:Laser Tag\, 5235 East 2nd Street\, Sheridan\, Texas\, 77475
CATEGORIES:Campground Activities
END:VEVENT
BEGIN:VEVENT
DTSTART;TZID=America/New_York:20260808T190000
DTEND;TZID=America/New_York:20260808T190000
DTSTAMP:20260420T020231
CREATED:20260419T160042Z
LAST-MODIFIED:20260419T160042Z
UID:47508-1786215600-1786215600@splashway.com
SUMMARY:Welcome to our Luau🌺🌴
DESCRIPTION:Join us down by the pond for our Luau! We will have limbo\, a hula hooping contest\, water balloon toss\, and a lot of fun!
URL:https://splashway.com/event/welcome-to-our-luau%f0%9f%8c%ba%f0%9f%8c%b4-2/
LOCATION:Pond\, 5235 East 2nd Street\, Sheridan\, TX\, 77475\, United States
CATEGORIES:Campground Activities
END:VEVENT
BEGIN:VEVENT
DTSTART;TZID=America/New_York:20260808T190000
DTEND;TZID=America/New_York:20260808T220000
DTSTAMP:20260420T020231
CREATED:20260319T201650Z
LAST-MODIFIED:20260319T201650Z
UID:46505-1786215600-1786226400@splashway.com
SUMMARY:Curt & Hannah
DESCRIPTION:🌊🎶 Splash All Day. Jam All Night. 🎶🌊 \nWhen the waterpark closes\, the fun keeps going at The Hideaway! Join us for a summer night of musical vibes on Saturday\, August 8th with Curt & Hannah playing from 7:00 – 10:00 PM 🎸☀️ \n💦 After a full day of splashing and sunshine\, cool down with a refreshing drink\, grab dinner\, and enjoy great live music in a relaxed outdoor setting. Whether you’re winding down or dancing along\, it’s the perfect way to end a Splashway day. 😎✨ \n🍔🍹 The Hideaway will be serving up delicious\, home-cooked meals from 5:00 – 9:00 PM—because summer nights deserve great food and great music!
URL:https://splashway.com/event/curt-hannah-13/
LOCATION:The Hideaway at Splashway\, 5235 East 2nd Street\, Sheridan\, Texas\, 77475
CATEGORIES:Campground Activities,Live Music
ATTACH;FMTTYPE=image/png:https://splashway.com/wp-content/uploads/2026/03/Curt-and-Hannah-1.png
END:VEVENT
BEGIN:VEVENT
DTSTART;TZID=America/New_York:20260808T200000
DTEND;TZID=America/New_York:20260808T200000
DTSTAMP:20260420T020231
CREATED:20260419T160139Z
LAST-MODIFIED:20260419T160139Z
UID:47510-1786219200-1786219200@splashway.com
SUMMARY:Silent Disco🎧🪩
DESCRIPTION:Shhhhhhh! We can’t hear the music! Join us in the Activity Center for a silent disco!
URL:https://splashway.com/event/silent-disco%f0%9f%8e%a7%f0%9f%aa%a9-2/
LOCATION:Activity Center\, 5235 East 2nd Street\, Sheridan\, TX 77475\, United States
CATEGORIES:Campground Activities
END:VEVENT
BEGIN:VEVENT
DTSTART;TZID=America/New_York:20260808T203000
DTEND;TZID=America/New_York:20260808T213000
DTSTAMP:20260420T020231
CREATED:20260419T160311Z
LAST-MODIFIED:20260419T160311Z
UID:47514-1786221000-1786224600@splashway.com
SUMMARY:Movie Night🎬
DESCRIPTION:Grab a bag of popcorn and meet us at the movie screen! The movie is\, Soul Surfer! Don’t forget to stop by the Camp Store for snacks and drinks!
URL:https://splashway.com/event/movie-night%f0%9f%8e%ac-204/
LOCATION:Movie Screen\, 5235 East 2nd Street\, Sheridan\, Texas\, 77475
CATEGORIES:Campground Activities,Campground Events
END:VEVENT
BEGIN:VEVENT
DTSTART;TZID=America/New_York:20260809T090000
DTEND;TZID=America/New_York:20260809T100000
DTSTAMP:20260420T020231
CREATED:20260419T160429Z
LAST-MODIFIED:20260419T160429Z
UID:47516-1786266000-1786269600@splashway.com
SUMMARY:Raycation Bible School📖🕊️🌅
DESCRIPTION:Meet us for fun and fellowship at the Hideaway deck as Splashway hosts a Sunday School Lesson based on scripture for children.
URL:https://splashway.com/event/raycation-bible-school%f0%9f%93%96%f0%9f%95%8a%ef%b8%8f%f0%9f%8c%85-64/
LOCATION:Splashway Campground\, 5235 East 2nd Street\, Sheridan\, Texas\, 77475
CATEGORIES:Campground Activities
END:VEVENT
BEGIN:VEVENT
DTSTART;TZID=America/New_York:20260814T190000
DTEND;TZID=America/New_York:20260814T220000
DTSTAMP:20260420T020231
CREATED:20260319T204158Z
LAST-MODIFIED:20260319T204158Z
UID:46541-1786734000-1786744800@splashway.com
SUMMARY:Cody Ray Henry
DESCRIPTION:🌅🎶 Live Music Nights at The Hideaway! 🎶🌅 \nJoin us Friday\, August 14th with Cody Ray Henry at The Hideaway for a laid-back evening of live country vibes\, playing from 7:00 – 10:00 PM 🎸✨ \n☀️ Enjoy warm evenings\, cold drinks\, and great music in a relaxed outdoor setting at Splashway. Whether you’re hanging out with friends\, grabbing dinner\, or dancing along to the tunes\, it’s the perfect way to spend a September night in Texas. 😎🎶 \n🍔🍹 The Hideaway will be serving up delicious\, home-cooked meals from 5:00 – 9:00 PM — because live music and good food always hit the spot!
URL:https://splashway.com/event/cody-ray-henry-21/
LOCATION:The Hideaway at Splashway\, 5235 East 2nd Street\, Sheridan\, Texas\, 77475
CATEGORIES:Campground Activities,Live Music
ATTACH;FMTTYPE=image/png:https://splashway.com/wp-content/uploads/2025/12/Website-Cody-Ray-Henry-aYbWz1.png
END:VEVENT
BEGIN:VEVENT
DTSTART;TZID=America/New_York:20260815T190000
DTEND;TZID=America/New_York:20260815T220000
DTSTAMP:20260420T020231
CREATED:20260319T201757Z
LAST-MODIFIED:20260319T201833Z
UID:46507-1786820400-1786831200@splashway.com
SUMMARY:Barditch Hippies
DESCRIPTION:☀️🎶 Live Music Nights at The Hideaway! 🎶☀️ \nJoin us Saturday\, August 15th at The Hideaway for a summer-ready evening of live country vibes with the Barditch Hippies playing from 7:00 – 10:00 PM! 🎸🌴 \n🌅 Enjoy warm evenings\, refreshing drinks\, and great music in a relaxed outdoor setting at Splashway. Whether you’re hanging out with friends\, grabbing dinner\, or dancing along to the tunes\, it’s the perfect way to enjoy a summer night. 😎✨ \n🍔🍹 The Hideaway will be serving up delicious\, home-cooked meals from 5:00 – 9:00 PM—because live music and good food are always better together!
URL:https://splashway.com/event/cody-ray-henry-19/
LOCATION:The Hideaway at Splashway\, 5235 East 2nd Street\, Sheridan\, Texas\, 77475
CATEGORIES:Campground Activities,Live Music
ATTACH;FMTTYPE=image/png:https://splashway.com/wp-content/uploads/2026/03/Barditch-Hippies.png
END:VEVENT
BEGIN:VEVENT
DTSTART;TZID=America/New_York:20260821T190000
DTEND;TZID=America/New_York:20260821T220000
DTSTAMP:20260420T020231
CREATED:20260319T201939Z
LAST-MODIFIED:20260319T201939Z
UID:46510-1787338800-1787349600@splashway.com
SUMMARY:Ryan Thompson
DESCRIPTION:☀️🎶 Live Music Nights at The Hideaway! 🎶☀️ \nJoin us Friday\, August 21st at The Hideaway for a summer-ready evening of live country vibes with Ryan Thompson playing from 7:00 – 10:00 PM! 🎸🌴 \n🌅 Enjoy warm evenings\, refreshing drinks\, and great music in a relaxed outdoor setting at Splashway. Whether you’re hanging out with friends\, grabbing dinner\, or dancing along to the tunes\, it’s the perfect way to enjoy a summer night. 😎✨ \n🍔🍹 The Hideaway will be serving up delicious\, home-cooked meals from 5:00 – 9:00 PM—because live music and good food are always better together!
URL:https://splashway.com/event/ryan-thompson-28/
LOCATION:The Hideaway at Splashway\, 5235 East 2nd Street\, Sheridan\, Texas\, 77475
CATEGORIES:Campground Activities,Live Music
ATTACH;FMTTYPE=image/png:https://splashway.com/wp-content/uploads/2026/03/Ryan-Thompson.png
END:VEVENT
BEGIN:VEVENT
DTSTART;TZID=America/New_York:20260822T190000
DTEND;TZID=America/New_York:20260822T220000
DTSTAMP:20260420T020231
CREATED:20260319T202048Z
LAST-MODIFIED:20260319T202048Z
UID:46512-1787425200-1787436000@splashway.com
SUMMARY:Tim Branch
DESCRIPTION:☀️🎶 Live Music Nights at The Hideaway! 🎶☀️ \nJoin us Saturday\, August 22nd at The Hideaway for a summer-ready evening of live country vibes with Tim Branch playing from 7:00 – 10:00 PM! 🎸🌴 \n🌅 Enjoy warm evenings\, refreshing drinks\, and great music in a relaxed outdoor setting at Splashway. Whether you’re hanging out with friends\, grabbing dinner\, or dancing along to the tunes\, it’s the perfect way to enjoy a summer night. 😎✨ \n🍔🍹 The Hideaway will be serving up delicious\, home-cooked meals from 5:00 – 9:00 PM—because live music and good food are always better together!
URL:https://splashway.com/event/tim-branch-11/
LOCATION:The Hideaway at Splashway\, 5235 East 2nd Street\, Sheridan\, Texas\, 77475
CATEGORIES:Campground Activities,Live Music
ATTACH;FMTTYPE=image/jpeg:https://splashway.com/wp-content/uploads/2025/12/Tim-Branch-AxkHj7.jpg
END:VEVENT
BEGIN:VEVENT
DTSTART;TZID=America/New_York:20260828T190000
DTEND;TZID=America/New_York:20260828T220000
DTSTAMP:20260420T020231
CREATED:20260319T202140Z
LAST-MODIFIED:20260319T202140Z
UID:46514-1787943600-1787954400@splashway.com
SUMMARY:The Brother's Jukebox
DESCRIPTION:☀️🎶 Live Music Nights at The Hideaway! 🎶☀️ \nJoin us Friday\, August 28th at The Hideaway for a summer-ready evening of live country vibes with The Brother’s Jukebox playing from 7:00 – 10:00 PM! 🎸🌴 \n🌅 Enjoy warm evenings\, refreshing drinks\, and great music in a relaxed outdoor setting at Splashway. Whether you’re hanging out with friends\, grabbing dinner\, or dancing along to the tunes\, it’s the perfect way to enjoy a summer night. 😎✨ \n🍔🍹 The Hideaway will be serving up delicious\, home-cooked meals from 5:00 – 9:00 PM—because live music and good food are always better together!
URL:https://splashway.com/event/the-brothers-jukebox-2/
LOCATION:The Hideaway at Splashway\, 5235 East 2nd Street\, Sheridan\, Texas\, 77475
CATEGORIES:Campground Activities,Live Music
ATTACH;FMTTYPE=image/png:https://splashway.com/wp-content/uploads/2026/03/The-Brothers-Jukebox.png
END:VEVENT
BEGIN:VEVENT
DTSTART;TZID=America/New_York:20260829T190000
DTEND;TZID=America/New_York:20260829T220000
DTSTAMP:20260420T020231
CREATED:20260319T202237Z
LAST-MODIFIED:20260319T202237Z
UID:46516-1788030000-1788040800@splashway.com
SUMMARY:Michelle Kay
DESCRIPTION: Live Music Nights at The Hideaway! \n\nJoin us Saturday\, August 29th at The Hideaway for a summer-ready evening of live country vibes with Michelle Kay playing from 7:00 – 10:00 PM! \n\n Enjoy warm evenings\, refreshing drinks\, and great music in a relaxed outdoor setting at Splashway. Whether you’re hanging out with friends\, grabbing dinner\, or dancing along to the tunes\, it’s the perfect way to enjoy a summer night. \n\n The Hideaway will be serving up delicious\, home-cooked meals from 5:00 – 9:00 PM—because live music and good food are always better together!
URL:https://splashway.com/event/michelle-kay-3/
LOCATION:The Hideaway at Splashway\, 5235 East 2nd Street\, Sheridan\, Texas\, 77475
CATEGORIES:Campground Activities,Live Music
ATTACH;FMTTYPE=image/png:https://splashway.com/wp-content/uploads/2025/12/Michelle-Kay-1-1-pP7BvI.png
END:VEVENT
BEGIN:VEVENT
DTSTART;TZID=America/New_York:20260904T190000
DTEND;TZID=America/New_York:20260904T220000
DTSTAMP:20260420T020231
CREATED:20260319T202325Z
LAST-MODIFIED:20260319T202325Z
UID:46518-1788548400-1788559200@splashway.com
SUMMARY:Cody Ray Henry
DESCRIPTION:🌅🎶 Live Music Nights at The Hideaway! 🎶🌅 \nJoin us Friday\, September 4th with Cody Ray Henry at The Hideaway for a laid-back evening of live country vibes\, playing from 7:00 – 10:00 PM 🎸✨ \n☀️ Enjoy warm evenings\, cold drinks\, and great music in a relaxed outdoor setting at Splashway. Whether you’re hanging out with friends\, grabbing dinner\, or dancing along to the tunes\, it’s the perfect way to spend a September night in Texas. 😎🎶 \n🍔🍹 The Hideaway will be serving up delicious\, home-cooked meals from 5:00 – 9:00 PM — because live music and good food always hit the spot!
URL:https://splashway.com/event/cody-ray-henry-20/
LOCATION:The Hideaway at Splashway\, 5235 East 2nd Street\, Sheridan\, Texas\, 77475
CATEGORIES:Campground Activities,Live Music
ATTACH;FMTTYPE=image/png:https://splashway.com/wp-content/uploads/2025/12/Website-Cody-Ray-Henry-aYbWz1.png
END:VEVENT
BEGIN:VEVENT
DTSTART;TZID=America/New_York:20260905T190000
DTEND;TZID=America/New_York:20260905T220000
DTSTAMP:20260420T020231
CREATED:20260319T202416Z
LAST-MODIFIED:20260319T202416Z
UID:46520-1788634800-1788645600@splashway.com
SUMMARY:Barditch Hippies
DESCRIPTION:🌅🎶 Live Music Nights at The Hideaway! 🎶🌅 \nJoin us Saturday\, September 5th with the Barditch Hippies at The Hideaway for a laid-back evening of live country vibes\, playing from 7:00 – 10:00 PM 🎸✨ \n☀️ Enjoy warm evenings\, cold drinks\, and great music in a relaxed outdoor setting at Splashway. Whether you’re hanging out with friends\, grabbing dinner\, or dancing along to the tunes\, it’s the perfect way to spend a September night in Texas. 😎🎶 \n🍔🍹 The Hideaway will be serving up delicious\, home-cooked meals from 5:00 – 9:00 PM — because live music and good food always hit the spot!
URL:https://splashway.com/event/barditch-hippies-5/
LOCATION:The Hideaway at Splashway\, 5235 East 2nd Street\, Sheridan\, Texas\, 77475
CATEGORIES:Campground Activities,Live Music
ATTACH;FMTTYPE=image/png:https://splashway.com/wp-content/uploads/2026/03/Barditch-Hippies.png
END:VEVENT
BEGIN:VEVENT
DTSTART;TZID=America/New_York:20260906T190000
DTEND;TZID=America/New_York:20260906T220000
DTSTAMP:20260420T020231
CREATED:20260319T202509Z
LAST-MODIFIED:20260319T202509Z
UID:46522-1788721200-1788732000@splashway.com
SUMMARY:Ryan Thompson
DESCRIPTION:🌅🎶 Live Music Nights at The Hideaway! 🎶🌅 \nJoin us Sunday\, September 6th with Ryan Thompson at The Hideaway for a laid-back evening of live country vibes\, playing from 7:00 – 10:00 PM 🎸✨ \n☀️ Enjoy warm evenings\, cold drinks\, and great music in a relaxed outdoor setting at Splashway. Whether you’re hanging out with friends\, grabbing dinner\, or dancing along to the tunes\, it’s the perfect way to spend a September night in Texas. 😎🎶 \n🍔🍹 The Hideaway will be serving up delicious\, home-cooked meals from 5:00 – 9:00 PM — because live music and good food always hit the spot!
URL:https://splashway.com/event/ryan-thompson-29/
LOCATION:The Hideaway at Splashway\, 5235 East 2nd Street\, Sheridan\, Texas\, 77475
CATEGORIES:Campground Activities,Live Music
ATTACH;FMTTYPE=image/png:https://splashway.com/wp-content/uploads/2026/03/Ryan-Thompson.png
END:VEVENT
BEGIN:VEVENT
DTSTART;TZID=America/New_York:20260911T190000
DTEND;TZID=America/New_York:20260911T220000
DTSTAMP:20260420T020231
CREATED:20260319T202608Z
LAST-MODIFIED:20260319T202608Z
UID:46524-1789153200-1789164000@splashway.com
SUMMARY:Dylan Rhys
DESCRIPTION:🌅🎶 Live Music Nights at The Hideaway! 🎶🌅 \nJoin us Friday\, September 11th with Dylan Rhys at The Hideaway for a laid-back evening of live country vibes\, playing from 7:00 – 10:00 PM 🎸✨ \n☀️ Enjoy warm evenings\, cold drinks\, and great music in a relaxed outdoor setting at Splashway. Whether you’re hanging out with friends\, grabbing dinner\, or dancing along to the tunes\, it’s the perfect way to spend a September night in Texas. 😎🎶 \n🍔🍹 The Hideaway will be serving up delicious\, home-cooked meals from 5:00 – 9:00 PM — because live music and good food always hit the spot!
URL:https://splashway.com/event/dylan-rhys-5/
LOCATION:The Hideaway at Splashway\, 5235 East 2nd Street\, Sheridan\, Texas\, 77475
CATEGORIES:Campground Activities,Live Music
ATTACH;FMTTYPE=image/png:https://splashway.com/wp-content/uploads/2025/12/Dylan-Rhys-c457p6.png
END:VEVENT
BEGIN:VEVENT
DTSTART;TZID=America/New_York:20260912T190000
DTEND;TZID=America/New_York:20260912T220000
DTSTAMP:20260420T020231
CREATED:20260319T202717Z
LAST-MODIFIED:20260319T202717Z
UID:46526-1789239600-1789250400@splashway.com
SUMMARY:Brad Stephens
DESCRIPTION:🌅🎶 Live Music Nights at The Hideaway! 🎶🌅 \nJoin us Saturday\, September 12th with Brad Stephens at The Hideaway for a laid-back evening of live country vibes\, playing from 7:00 – 10:00 PM 🎸✨ \n☀️ Enjoy warm evenings\, cold drinks\, and great music in a relaxed outdoor setting at Splashway. Whether you’re hanging out with friends\, grabbing dinner\, or dancing along to the tunes\, it’s the perfect way to spend a September night in Texas. 😎🎶 \n🍔🍹 The Hideaway will be serving up delicious\, home-cooked meals from 5:00 – 9:00 PM — because live music and good food always hit the spot!
URL:https://splashway.com/event/brad-stephens/
LOCATION:The Hideaway at Splashway\, 5235 East 2nd Street\, Sheridan\, Texas\, 77475
CATEGORIES:Campground Activities,Live Music
ATTACH;FMTTYPE=image/png:https://splashway.com/wp-content/uploads/2026/03/Brad-Stephens.png
END:VEVENT
BEGIN:VEVENT
DTSTART;TZID=America/New_York:20260918T190000
DTEND;TZID=America/New_York:20260918T220000
DTSTAMP:20260420T020231
CREATED:20260319T202815Z
LAST-MODIFIED:20260319T202815Z
UID:46529-1789758000-1789768800@splashway.com
SUMMARY:Tim Branch
DESCRIPTION:🌅🎶 Live Music Nights at The Hideaway! 🎶🌅 \nJoin us Friday\, September 18th with Tim Branch at The Hideaway for a laid-back evening of live country vibes\, playing from 7:00 – 10:00 PM 🎸✨ \n☀️ Enjoy warm evenings\, cold drinks\, and great music in a relaxed outdoor setting at Splashway. Whether you’re hanging out with friends\, grabbing dinner\, or dancing along to the tunes\, it’s the perfect way to spend a September night in Texas. 😎🎶 \n🍔🍹 The Hideaway will be serving up delicious\, home-cooked meals from 5:00 – 9:00 PM — because live music and good food always hit the spot!
URL:https://splashway.com/event/tim-branch-12/
LOCATION:The Hideaway at Splashway\, 5235 East 2nd Street\, Sheridan\, Texas\, 77475
CATEGORIES:Campground Activities,Live Music
ATTACH;FMTTYPE=image/jpeg:https://splashway.com/wp-content/uploads/2025/12/Tim-Branch-AxkHj7.jpg
END:VEVENT
BEGIN:VEVENT
DTSTART;TZID=America/New_York:20260919T190000
DTEND;TZID=America/New_York:20260919T220000
DTSTAMP:20260420T020231
CREATED:20260319T203057Z
LAST-MODIFIED:20260319T203057Z
UID:46534-1789844400-1789855200@splashway.com
SUMMARY:Brandi Behlen
DESCRIPTION:🌅🎶 Live Music Nights at The Hideaway! 🎶🌅 \nJoin us Saturday\, September 19th with Brandi Behlen at The Hideaway for a laid-back evening of live country vibes\, playing from 7:00 – 10:00 PM 🎸✨ \n☀️ Enjoy warm evenings\, cold drinks\, and great music in a relaxed outdoor setting at Splashway. Whether you’re hanging out with friends\, grabbing dinner\, or dancing along to the tunes\, it’s the perfect way to spend a September night in Texas. 😎🎶 \n🍔🍹 The Hideaway will be serving up delicious\, home-cooked meals from 5:00 – 9:00 PM — because live music and good food always hit the spot!
URL:https://splashway.com/event/brandi-behlen-7/
LOCATION:The Hideaway at Splashway\, 5235 East 2nd Street\, Sheridan\, Texas\, 77475
CATEGORIES:Campground Activities,Live Music
ATTACH;FMTTYPE=image/png:https://splashway.com/wp-content/uploads/2025/12/Website-Brandi-Behlen-pse0h0.png
END:VEVENT
BEGIN:VEVENT
DTSTART;TZID=America/New_York:20260925T190000
DTEND;TZID=America/New_York:20260925T220000
DTSTAMP:20260420T020231
CREATED:20260319T202906Z
LAST-MODIFIED:20260319T202945Z
UID:46531-1790362800-1790373600@splashway.com
SUMMARY:Ryan Thompson
DESCRIPTION:🌅🎶 Live Music Nights at The Hideaway! 🎶🌅 \nJoin us Friday\, September 25th with Ryan Thompson at The Hideaway for a laid-back evening of live country vibes\, playing from 7:00 – 10:00 PM 🎸✨ \n☀️ Enjoy warm evenings\, cold drinks\, and great music in a relaxed outdoor setting at Splashway. Whether you’re hanging out with friends\, grabbing dinner\, or dancing along to the tunes\, it’s the perfect way to spend a September night in Texas. 😎🎶 \n🍔🍹 The Hideaway will be serving up delicious\, home-cooked meals from 5:00 – 9:00 PM — because live music and good food always hit the spot!
URL:https://splashway.com/event/brandi-behlen-6/
LOCATION:The Hideaway at Splashway\, 5235 East 2nd Street\, Sheridan\, Texas\, 77475
CATEGORIES:Campground Activities,Live Music
ATTACH;FMTTYPE=image/png:https://splashway.com/wp-content/uploads/2026/03/Ryan-Thompson.png
END:VEVENT
BEGIN:VEVENT
DTSTART;TZID=America/New_York:20260926T190000
DTEND;TZID=America/New_York:20260926T220000
DTSTAMP:20260420T020231
CREATED:20260319T203149Z
LAST-MODIFIED:20260319T203149Z
UID:46536-1790449200-1790460000@splashway.com
SUMMARY:Trey Yenger
DESCRIPTION:🌅🎶 Live Music Nights at The Hideaway! 🎶🌅 \nJoin us Saturday\, September 26th with Trey Yenger at The Hideaway for a laid-back evening of live country vibes\, playing from 7:00 – 10:00 PM 🎸✨ \n☀️ Enjoy warm evenings\, cold drinks\, and great music in a relaxed outdoor setting at Splashway. Whether you’re hanging out with friends\, grabbing dinner\, or dancing along to the tunes\, it’s the perfect way to spend a September night in Texas. 😎🎶 \n🍔🍹 The Hideaway will be serving up delicious\, home-cooked meals from 5:00 – 9:00 PM — because live music and good food always hit the spot!
URL:https://splashway.com/event/trey-yenger-8/
LOCATION:The Hideaway at Splashway\, 5235 East 2nd Street\, Sheridan\, Texas\, 77475
CATEGORIES:Campground Activities,Live Music
ATTACH;FMTTYPE=image/png:https://splashway.com/wp-content/uploads/2025/12/Trey-Yenger-2Xum1u.png
END:VEVENT
END:VCALENDAR