BEGIN:VCALENDAR
VERSION:2.0
PRODID:-//Splashway Waterpark - ECPv6.15.15//NONSGML v1.0//EN
CALSCALE:GREGORIAN
METHOD:PUBLISH
X-WR-CALNAME:Splashway Waterpark
X-ORIGINAL-URL:https://splashway.com
X-WR-CALDESC:Events for Splashway Waterpark
REFRESH-INTERVAL;VALUE=DURATION:PT1H
X-Robots-Tag:noindex
X-PUBLISHED-TTL:PT1H
BEGIN:VTIMEZONE
TZID:America/New_York
BEGIN:DAYLIGHT
TZOFFSETFROM:-0500
TZOFFSETTO:-0400
TZNAME:EDT
DTSTART:20250309T070000
END:DAYLIGHT
BEGIN:STANDARD
TZOFFSETFROM:-0400
TZOFFSETTO:-0500
TZNAME:EST
DTSTART:20251102T060000
END:STANDARD
BEGIN:DAYLIGHT
TZOFFSETFROM:-0500
TZOFFSETTO:-0400
TZNAME:EDT
DTSTART:20260308T070000
END:DAYLIGHT
BEGIN:STANDARD
TZOFFSETFROM:-0400
TZOFFSETTO:-0500
TZNAME:EST
DTSTART:20261101T060000
END:STANDARD
BEGIN:DAYLIGHT
TZOFFSETFROM:-0500
TZOFFSETTO:-0400
TZNAME:EDT
DTSTART:20270314T070000
END:DAYLIGHT
BEGIN:STANDARD
TZOFFSETFROM:-0400
TZOFFSETTO:-0500
TZNAME:EST
DTSTART:20271107T060000
END:STANDARD
END:VTIMEZONE
BEGIN:VEVENT
DTSTART;TZID=America/New_York:20260320T120000
DTEND;TZID=America/New_York:20260320T130000
DTSTAMP:20260419T195957
CREATED:20260207T181940Z
LAST-MODIFIED:20260207T181940Z
UID:45190-1774008000-1774011600@splashway.com
SUMMARY:Arts & Crafts🎨🖌️
DESCRIPTION:Unleash your creativity! Come to the Activity Center and bring your artistic flair. We will be making sundials!
URL:https://splashway.com/event/arts-crafts%f0%9f%8e%a8%f0%9f%96%8c%ef%b8%8f-88/
LOCATION:Activity Center\, 5235 East 2nd Street\, Sheridan\, TX 77475\, United States
CATEGORIES:Arts & Crafts,Campground Activities
END:VEVENT
BEGIN:VEVENT
DTSTART;TZID=America/New_York:20260319T203000
DTEND;TZID=America/New_York:20260319T220000
DTSTAMP:20260419T195957
CREATED:20260207T181858Z
LAST-MODIFIED:20260207T181858Z
UID:45188-1773952200-1773957600@splashway.com
SUMMARY:Movie Night🎬
DESCRIPTION:Grab a bag of popcorn and meet us at the movie screen! The movie is\, Space Jam!  Don’t forget to stop by the Camp Store for snacks and drinks!
URL:https://splashway.com/event/movie-night%f0%9f%8e%ac-205/
LOCATION:Movie Screen\, 5235 East 2nd Street\, Sheridan\, Texas\, 77475
CATEGORIES:Campground Activities,Campground Events
END:VEVENT
BEGIN:VEVENT
DTSTART;TZID=America/New_York:20260319T190000
DTEND;TZID=America/New_York:20260319T200000
DTSTAMP:20260419T195957
CREATED:20260207T181820Z
LAST-MODIFIED:20260207T181820Z
UID:45186-1773946800-1773950400@splashway.com
SUMMARY:Ray’s Disco Express🚂🪩
DESCRIPTION:All aboard Ray’s Disco Express! 🚂✨ Get ready to groove the night away with lights\, music\, and non-stop fun at Splashway Campground’s ultimate disco party. Glow sticks will be available for purchase on Ray’s Express.
URL:https://splashway.com/event/rays-disco-express%f0%9f%9a%82%f0%9f%aa%a9-2/
LOCATION:Ray’s Playground\, 5235 East 2nd Street\, Sheridan\, Texas\, 77475
CATEGORIES:Campground Activities
END:VEVENT
BEGIN:VEVENT
DTSTART;TZID=America/New_York:20260319T180000
DTEND;TZID=America/New_York:20260319T210000
DTSTAMP:20260419T195957
CREATED:20260207T181719Z
LAST-MODIFIED:20260207T181719Z
UID:45184-1773943200-1773954000@splashway.com
SUMMARY:Laser Tag🔫💥🎯
DESCRIPTION:Book a thrilling game of Laser Tag in the Camp Store today!
URL:https://splashway.com/event/laser-tag%f0%9f%94%ab%f0%9f%92%a5%f0%9f%8e%af-115/
LOCATION:Laser Tag\, 5235 East 2nd Street\, Sheridan\, Texas\, 77475
CATEGORIES:Campground Activities
END:VEVENT
BEGIN:VEVENT
DTSTART;TZID=America/New_York:20260319T160000
DTEND;TZID=America/New_York:20260319T170000
DTSTAMP:20260419T195957
CREATED:20260207T181616Z
LAST-MODIFIED:20260207T181616Z
UID:45182-1773936000-1773939600@splashway.com
SUMMARY:Bingo🏆🔢
DESCRIPTION:Get ready to shout BINGO at The Hideaway deck! Join us for a fun-filled morning of friendly competition\, prizes\, and laughs at Splashway Campground!
URL:https://splashway.com/event/bingo%f0%9f%8f%86%f0%9f%94%a2-20/
LOCATION:The Hideaway Stage\, 5235 East 2nd Street\, Sheridan\, Texas\, 77475
CATEGORIES:Campground Activities
END:VEVENT
BEGIN:VEVENT
DTSTART;TZID=America/New_York:20260316T000000
DTEND;TZID=America/New_York:20260322T235900
DTSTAMP:20260419T195957
CREATED:20251208T192854Z
LAST-MODIFIED:20251208T195615Z
UID:40007-1773619200-1774223940@splashway.com
SUMMARY:💚🏕️🌿🌲🌳☘️Spring Break 90s Themed Camping Experience
DESCRIPTION:Make this Spring Break unforgettable with a camping adventure full of family fun\, outdoor exploration\, 90s throwback tunes\, and lifelong memories.\nBook Your Experience Now!
URL:https://splashway.com/event/%f0%9f%92%9a%f0%9f%8f%95%ef%b8%8f%f0%9f%8c%bf%f0%9f%8c%b2%f0%9f%8c%b3%e2%98%98%ef%b8%8fspring-break-90s-themed-camping-experience/
LOCATION:Texas
CATEGORIES:Campground Activities,Campground Events
END:VEVENT
END:VCALENDAR